BEGIN:VCALENDAR
VERSION:2.0
PRODID:-//wp-events-plugin.com//6.4.6.4//EN
BEGIN:VEVENT
UID:1335@local-buehne.at
DTSTART:20240411T180000Z
DTEND:20240411T180000Z
DTSTAMP:20240527T184848Z
URL:https://www.local-buehne.at/events/florian-aigner-martin-moder/
SUMMARY:FLORIAN AIGNER & MARTIN MODER
DESCRIPTION:&nbsp\;\n\nDer Urknall war 1 Fehler\n\n&nbsp\;\n\nNach fast 14 Milliarden Jahren wird es Zeit\, Bilanz zu ziehen: Hat sich der Urknall gelohnt? Oder hätten wir uns den Ärger mit Evolution und Technik auch sparen können? Wozu Wissenschaft\, wenn es doch viel einfacher ist\, im Internet zu behaupten\, die Erde sei flach?\n\nFlorian Aigner (Physiker) und Martin Moder (Molekularbiologe) liefern Antworten auf die wirklich großen Fragen: Sind wir zu dumm\, um die Welt zu retten? Genügt es\, wenn wir uns die Existenz schön saufen? Oder sollten wir das Universum lieber umtauschen\, bevor die Rückgabefrist abgelaufen ist?\n\n&nbsp\;\n\nFlorian Aigner\, geboren und aufgewachsen in Freistadt\, lebt in Wien und ist Physiker und Wissenschaftspublizist. Er promovierte über theoretische Quantenphysik\, schreibt heute über Wissenschaft und Technik und ist ein gefragter Wissenschaftserklärer in Medien und auf Bühnen. Mit aktuellen\nForschungsfragen setzt er sich ebenso auseinander wie mit esoterischen Behauptungen\, die immer wieder mit echter Wissenschaft verwechselt werden.\n\nMartin Moder ist Molekularbiologe und wurde 2014 in einem Fliegenkostüm und mit dem Beitrag „Hirnamputierte Fruchtfliegen zur Tumorbekämpfung“ erster Science-Slam-Europameister. Seit 2016 ist Moder fester Bestandteil der Wissenschaftskabarettgruppe Science Busters.\n\n&nbsp\;\n\n\n\n\n\n\n\nVorverkauf: kupfticket.com/shops/lb\nVorverkauf EUR 31\n\nAbendkasse: 35\,- / 33\,-\n\nAbendkasse Preis 1: Vollpreis Abendkassa\; Preis 2: ermäßigt Abendkassa (u. a. für Ö1-\, Arbeiterkammer-\, Kupf-Mitglieder\, Schüler*innen\, Student*innen\, Präsenz- &amp\; Zivildiener\; mit gültigem Ausweis)\; Local-Bühne-Mitglieder: 1 Euro retour auf VVK an Abendkasse\n\n\n\n
ATTACH;FMTTYPE=image/jpeg:https://www.local-buehne.at/wp-content/uploads/2023/11/240411-AigMod-1200.jpg
CATEGORIES:Kabarett,Vortrag
LOCATION:Salzhof Freistadt\, Salzgasse 15\, Freistadt\, Oberösterreich\, 4240\, Österreich
X-APPLE-STRUCTURED-LOCATION;VALUE=URI;X-ADDRESS=Salzgasse 15\, Freistadt\, Oberösterreich\, 4240\, Österreich;X-APPLE-RADIUS=100;X-TITLE=Salzhof Freistadt:geo:0,0
END:VEVENT
END:VCALENDAR