BEGIN:VCALENDAR
VERSION:2.0
PRODID:-//wp-events-plugin.com//6.4.6.4//EN
BEGIN:VEVENT
UID:530@local-buehne.at
DTSTART;VALUE=DATE:20130416
DTEND;VALUE=DATE:20130417
DTSTAMP:20190924T180629Z
URL:https://www.local-buehne.at/events/flaps-die-flunkerfledermaus/
SUMMARY:Flaps die Flunkerfledermaus
DESCRIPTION:Flaps die Flunkerfledermaus\n\nBuchpräsentation\n\n\nFlaps die Flunkerfledermaus\, Theresia vom Thurytal und Fritz der Flitzer\, die beidem Kellermäuse\, und einige andere mehr würden sich sehr über euer Kommen freuen ... garantiert ungeflunkert!\n\n\nRupert Hörbst\, Ernst Aigner und Siegmund Andraschek präsentieren das Freistädter Kinderbuch im Salzhof Freistadt.\n\n\nEintritt frei!
ATTACH;FMTTYPE=image/jpeg:https://www.local-buehne.at/wp-content/uploads/2019/09/unnamed-file-476.jpeg
CATEGORIES:Lesung
LOCATION:Salzhof\, Salzgasse 15\, Freistadt\, Oberösterreich\, 4240\, Freistadt\, Österreich
GEO:48.512165;14.503003
X-APPLE-STRUCTURED-LOCATION;VALUE=URI;X-ADDRESS=Salzgasse 15\, Freistadt\, Oberösterreich\, 4240\, Freistadt\, Österreich;X-APPLE-RADIUS=100;X-TITLE=Salzhof:geo:48.512165;14.503003
END:VEVENT
END:VCALENDAR