BEGIN:VCALENDAR
VERSION:2.0
PRODID:-//wp-events-plugin.com//6.4.6.4//EN
BEGIN:VEVENT
UID:99@local-buehne.at
DTSTART;VALUE=DATE:20050824
DTEND;VALUE=DATE:20050825
DTSTAMP:20190924T173153Z
URL:https://www.local-buehne.at/events/eroeffnung-heimatfilmfestival/
SUMMARY:Eröffnung Heimatfilmfestival
DESCRIPTION:Die beiden grossen Virtuosen von Accordeon Tribe als Duo\n\nBratko Bibic - Akkordeon-Individualist aus Ljubljana\, Slowenien - war einer der ersten Komponisten und Musiker\, der mit eigenwilligem Stil dem Akkordeon eine neue Identifikation verlieh.\n\nOtto Lechners Kompositionen sprühen vor Einfallsreichtum und hintergründigem Witz. In Soli pendelt der Künstler zwischen jazzigen Blue Notes zur Blues-Begleitung und ironischen Karikaturen. Wiener Heurigenseligkeit verbindet charmanten „Schmäh“\, abgehackte Phrasen und Praterstimmung.
ATTACH;FMTTYPE=image/jpeg:https://www.local-buehne.at/wp-content/uploads/2019/09/unnamed-file-29.jpeg
CATEGORIES:Archiv
END:VEVENT
END:VCALENDAR