BEGIN:VCALENDAR
VERSION:2.0
PRODID:-//wp-events-plugin.com//6.4.6.4//EN
BEGIN:VEVENT
UID:132@local-buehne.at
DTSTART;VALUE=DATE:20060407
DTEND;VALUE=DATE:20060408
DTSTAMP:20190924T173153Z
URL:https://www.local-buehne.at/events/die-maennliche-herrschaft/
SUMMARY:Die männliche Herrschaft
DESCRIPTION:Termine:\nPremiere: Freitag 24. Februar\nDonnerstag 2. März\nFreitag 10. März\nZusatztermin: Mittwoch 24. März\nund Freitag 7. April!\n\nAlle Termine sind Ausverkauft.\nDrei Frauen spielen den soziologisch/philosophischen Text „Die männliche Herrschaft“\, geschrieben von einem Mann (dem französischen Soziologen Pierre Bourdieu) und inszeniert von einem Mann (Peter Hanusch).\nVersucht wurde eine gemeinsame Auseinandersetzung mit einem schwierigen soziologisch-philosophischen Text und damit mit einem Thema\, das jede und jeden betrifft: das Frau-Sein (aber auch Mann-Sein) im Heute als vorläufiger Endpunkt einer langen historischen und kulturellen Entwicklung. – Frau-Sein unter männlicher Herrschaft.\n\nSchauspiel:\nSabina Eisner\, Helga Meditz\, Claudia Strobl\n\nRegie:\nPeter Hanusch (mit freundlicher Unterstützung von Markus Zeindlinger)\n\nKartenreservierung unter office@local-buehne.at oder (07942) 777 33
ATTACH;FMTTYPE=image/jpeg:https://www.local-buehne.at/wp-content/uploads/2019/09/unnamed-file-58.jpeg
CATEGORIES:Theater
END:VEVENT
END:VCALENDAR