BEGIN:VCALENDAR
VERSION:2.0
PRODID:-//wp-events-plugin.com//6.4.6.4//EN
BEGIN:VEVENT
UID:1343@local-buehne.at
DTSTART;VALUE=DATE:20231229
DTEND;VALUE=DATE:20240101
DTSTAMP:20231231T145043Z
URL:https://www.local-buehne.at/events/die-letzten-filme-des-jahres-2/
SUMMARY:DIE LETZTEN FILME DES JAHRES
DESCRIPTION:Vorschau auf das Kinojahr 2024\n\n&nbsp\;\n\nWir zelebrieren das Ende eines großartigen Jahres mit sechs Vorpremieren von Filmhöhepunkten des ersten Quartals 2024\n\nFr. 29. Dezember\n17.45 Priscilla\n20.00 15 Jahre\n\nSa. 30. Dezember\n17.30 Geliebte Köchin\n20.00 Poor Things\n\nSo. 31. Dezember\n17Uhr The Holdovers\n19.30 Sterne zum Dessert\n\n&nbsp\;\n\n\n\n&nbsp\;\n\nPriscilla\nIT/US 2023\, 110 min\, OmdtU\, R: Sofia Coppola\, D: Cailee Spaeny\, Jacob Elordi\, Dagmara Dominczyk\, Emily Mitchell\nSofia Coppola erzählt aus der Perspektive der jungen Priscilla von Liebe\, Fantasie und Ruhm und beleuchtet dabei die verborgenen Seiten eines großen amerikanischen Mythos. Elvis und Priscillas langes Umwerben und ihre turbulente Ehe\, vom amerikanischen Armeestützpunkt in Deutschland bis zum traumhaften Anwesen in Graceland.\nTrailer: https://youtu.be/hK5fs4bZSRg\n\n15 Jahre\nDE 2023\, 143 min\, OdF\, R: Chris Kraus\, D: Hannah Herzsprung\, Hassan Akkouch\, Christian Friedel\, Albrecht Schuch\, Katharina Schüttler\nDer Film setzt die Erzählung der genialen wie psychisch hochkomplexen Klavierspielerin Jenny von Loeben fort (erneut dargestellt von Hannah Herzsprung)\, die im Jahr 2007 in dem Vorgängerfilm "Vier Minuten" weltweit ein Millionenpublikum faszinierte.\nTrailer: https://youtu.be/xx2u2-YxozU\n\nGeliebte Köchin\nBE/FR 2023\, 135 min\, OmdtU\, R: Tran Anh Hung\, Cathy Mlakar\, D: Juliette Binoche\, Benoît Magimel\, Patrick d'Assumçao\, Emmanuel Salinger\nFrankeich\, Ende des 19. Jahrhunderts. Seit 20 Jahren arbeitet die außerwöhnliche Köchin Eugénie für den berühmten Gourmet Dodin. Aus der gemeinsamen Zeit in der Küche und der Leidenschaft für das Kochen ist über die Jahre weit mehr als nur eine Liebe fürs Essen erwachsen. Doch Eugénie will ihre Freiheit nicht aufgeben und hat keinerlei Absichten Dodin zu heiraten.\nTrailer: https://youtu.be/fD4N3Q8bfyw\n\nPoor Things\nGB 2022\, 142 min\, OmdtU\, R: Yorgos Lanthimos\, D: Emma Stone\, Damien Bonnard\nDer griechische Kultregisseur Yorgos Lanthimos (The Lobster\, The Favourite) hat mit POOR THINGS eine gewagte Variation der Frankenstein-Geschichte geschaffen\, die bei den Filmfestspielen in Venedig mit dem Goldenen Löwen ausgezeichnet wurden\nTrailer: https://youtu.be/7QR3Reqezgw\n\nThe Holdovers\nUS 2023\, 133 min\, OmdtU\, R: Alexander Payne\, John Nasraway\, D: Paul Giamatti\, Dominic Sessa\, Da'Vine Joy Randolph\, Carrie Preston\, Brady Hepner\, Ian Dolley\nEin verschrobener Geschichtslehrer an einer Vorbereitungsschule ist gezwungen\, über die Feiertage mit einem Schüler\, der keine Familienpläne hat\, auf dem Campus zu bleiben.\nTrailer: https://youtu.be/SkMXu1yt99U\n\nSterne zum Dessert\nFR 2023\, 110 min\, OmdtU\, R: Sebastien Tulard\, D: Riadh Belaïche\, Loubna Abidar\, Christine Citti\nSeit Yazid denken kann\, ist er vom Backen wie besessen. Deshalb überrascht es auch wenig\, dass er seine Leidenschaft zum Beruf macht und seinen Lebensunterhalt fortan als Konditor bestreitet. Dabei treibt Yazid immer ein großes Ziel an: Er will an der Spitze seiner Zunft stehen und die Konditorenweltmeisterschaft gewinnen.\nTrailer: https://youtu.be/7mF8JIw-FR4\n\n&nbsp\;\n\n\n\nTickets: www.kino-freistadt.at\n\n\n\n&nbsp\;
ATTACH;FMTTYPE=image/jpeg:https://www.local-buehne.at/wp-content/uploads/2023/12/231229-letzte-Filme-FB-VA.jpg
CATEGORIES:Film
LOCATION:Kino Freistadt\, Salzgasse 25\, Freistadt\, Oberösterreich\, 4240\, Freistadt\, Österreich
GEO:48.512609;14.5035787
X-APPLE-STRUCTURED-LOCATION;VALUE=URI;X-ADDRESS=Salzgasse 25\, Freistadt\, Oberösterreich\, 4240\, Freistadt\, Österreich;X-APPLE-RADIUS=100;X-TITLE=Kino Freistadt:geo:48.512609;14.5035787
END:VEVENT
END:VCALENDAR