BEGIN:VCALENDAR
VERSION:2.0
PRODID:-//wp-events-plugin.com//6.4.6.4//EN
BEGIN:VEVENT
UID:81@local-buehne.at
DTSTART;VALUE=DATE:20050430
DTEND;VALUE=DATE:20050501
DTSTAMP:20190924T173152Z
URL:https://www.local-buehne.at/events/diamodal/
SUMMARY:diamodal
DESCRIPTION:In der Musik von diamodal fließen klassische Elemente\, Jazz\, wie auch Musik aus anderen Kulturkreisen zusammen (Sufimusik\, indische Musik\, Klezmer...). diamodal läßt sich von Melodien und Klängen aus verschiedenen Musikkulturen inspirieren\, verbunden mit eigenen Ideen entstehen so neue diamodale Kompositionen. Einige Instrumente stammen aus dem Orient und aus Asien (Indien\, Zentralasien\, Japan) und werden gemeinsam mit traditionellen europäischen Instrumenten wie Cello und Saxophon zum Klingen gebracht. Das Interesse an der modalen Improvisation und an der Erforschung anderer Musikkulturen führte die MusikerInnen zusammen\, die sowohl klassisch ausgbildet sind als auch durch Reisen in verschiedene Länder musikalisch weiterentwickelt haben.\nDer Spannungsbogen der Musik reicht von meditativen Klängen bis zu rhythmisch mitreißenden Improvisationen. \n\nMarkus Lindner - Percussion\nMagdalena König - Cello\nKaren Schlimp - Bambusquerflöten\, Harmonium\, Koto\nWolfgang Weissengruber - Ud\, Dombra\, Hang
ATTACH;FMTTYPE=image/jpeg:https://www.local-buehne.at/wp-content/uploads/2019/09/unnamed-file-8.jpeg
CATEGORIES:Konzert
LOCATION:Salzhof\, Salzgasse 15\, Freistadt\, Oberösterreich\, 4240\, Freistadt\, Österreich
GEO:48.512165;14.503003
X-APPLE-STRUCTURED-LOCATION;VALUE=URI;X-ADDRESS=Salzgasse 15\, Freistadt\, Oberösterreich\, 4240\, Freistadt\, Österreich;X-APPLE-RADIUS=100;X-TITLE=Salzhof:geo:48.512165;14.503003
END:VEVENT
END:VCALENDAR