BEGIN:VCALENDAR
VERSION:2.0
PRODID:-//wp-events-plugin.com//6.4.6.4//EN
BEGIN:VEVENT
UID:516@local-buehne.at
DTSTART;VALUE=DATE:20130125
DTEND;VALUE=DATE:20130126
DTSTAMP:20190924T180628Z
URL:https://www.local-buehne.at/events/das-kroko-dicke-dil/
SUMMARY:DAS KROKO DICKE DIL
DESCRIPTION:DAS KROKO DICKE DIL\n\nEin Stück von Heinz R. Unger für kleine und große Kinder ab 4 Jahren\n\n\n*** wegen Krankheit ABGESAGT ***\n\nWir bitten um Verständnis! \n\n\nDas Theater steht bereit\, der Musiker hat seine Instrumente gestimmt … aber halt: da will jemand nicht auftreten! Wo bleibt das Krokodil? Und was macht ein Kasperl alleine – da kann er ja mit niemandem spielen!\n\nWir bitten unser Publikum also hinter die Bühne: Da liegt unser krankes Krokodil in seinem Liegestuhl – und es braucht dringend einen Arzt\, weil es ihm so schlecht geht. Ist ja auch kein Wunder\, wo es doch immer nur eine drauf bekommt. Und deshalb kann das Spiel so nicht weitergehen.\n\nEin Spiel mit Handpuppen und Marionetten in und rund um eine alte „Pawlatschenbühne“\, das die Grenzen und Tradi­tionen des üblichen Kasperltheaters in Frage stellt und erweitert.\n\n\n\nHeinz R. Unger:\n\nWIE ICH ZUM KASPERL KAM\n\nWas ich kann\, lässt mich kalt.\nWas ich nicht kann\, macht mich heiß.\nDas ist der Grund dafür\, warum ich gerne in\nvöllig neuen Gebieten tätig bin. Jetzt durfte ich zum ersten Mal am Projekt eines Puppentheaters mitarbeiten. Der Archetypus des Kaspers\, Symbol des Aufbegehrens und der Aufmüpfigkeit\, zog mich an. Am Wichtigsten aber war\, dass dem Puppenspiel von Heini Brossmann eine Art Magie innewohnt\, die mich an meine Anfänge im avantgardistischen Theater erinnert und die ich am zeitgenössischen Theater immer häufiger schmerzlich vermisse ...\nEr zaubert. Und er hat auch mich bezaubert.\n\n\n\nRegie: JAKOB BROSSMANN\nPuppenbau: PETER CIGAN\nBühne: JAKOB BROSSMANN\nText: HEINZ R. UNGER\nSpieler: HEINI BROSMMANN\, PETER MARNUL\nMusik: PETER MARNUL\n\n\n\n*** wegen Krankheit ABGESAGT ***\n\nWir bitten um Verständnis!
ATTACH;FMTTYPE=image/jpeg:https://www.local-buehne.at/wp-content/uploads/2019/09/unnamed-file-444.jpeg
CATEGORIES:Archiv
LOCATION:Salzhof\, Salzgasse 15\, Freistadt\, Oberösterreich\, 4240\, Freistadt\, Österreich
GEO:48.512165;14.503003
X-APPLE-STRUCTURED-LOCATION;VALUE=URI;X-ADDRESS=Salzgasse 15\, Freistadt\, Oberösterreich\, 4240\, Freistadt\, Österreich;X-APPLE-RADIUS=100;X-TITLE=Salzhof:geo:48.512165;14.503003
END:VEVENT
END:VCALENDAR