BEGIN:VCALENDAR
VERSION:2.0
PRODID:-//wp-events-plugin.com//6.4.6.4//EN
BEGIN:VEVENT
UID:290@local-buehne.at
DTSTART;VALUE=DATE:20090207
DTEND;VALUE=DATE:20090208
DTSTAMP:20190924T173229Z
URL:https://www.local-buehne.at/events/daniel-noesig/
SUMMARY:DANIEL NÖSIG
DESCRIPTION:„Fine Noise“ wurde von den beiden Österreichern Daniel Nösig (Trompete) und Tonc Feinig (Hammond Orgel) gegründet. Die Idee dahinter war eine Band zu starten\, die einen eigenständigen Sound transportiert und natürlich auch weiterentwickelt.\nDusan Novakov am Schlagzeug ist mit seinem kraftvollen Spiel und seinem unverkennbaren Drive der Motor der Band. Feinig gibt der Band mit seinem impulsiven Hammond-Bass das Fundament und versteht Novakovs Spiel\; so ergibt sich Musik auf die Nösig reagiert\, den Ball aufgreift\, oder just auch nicht\, und so Freiräume schafft. So gleicht Fine Noise einem Boot\, welches immer wieder aus dem Hafen ausläuft um ins Ungewisse zu navigieren\, wo man gerade bei hohem Wellengang ein heimeiliges Gefühl hat ... \nDreizehn Jahre ist es her\, da wurde Miles Griffith über Nacht zum Star. Wynton Marsalis suchte damals für die Hauptrolle seines Jazz-Oratoriums „Blood On The Fields“ einen Scat Sänger\, der sein Instrument wirklich beherrscht. Das Werk wurde ein Welterfolg und Marsalis erhielt für seine Leistung den Pulitzer Preis. Miles Griffith ist unter anderem zweifacher Preisträger in der Kategorie “Talent deserving wider recognition” des renommierten Jazz Magazins Down Beat.\n\nDaniel Nösig - Trompete\nTonc Feinig - Hammond Orgel\nDusan Novakov - Schlagzeug\nMiles Griffith - Gesang\n\nEintritt: 13\,- / 11\,- / 10\,-\nKartenreservierung unter 07942 / 777 33 oder office@local-buehne.at
ATTACH;FMTTYPE=image/jpeg:https://www.local-buehne.at/wp-content/uploads/2019/09/unnamed-file-225.jpeg
CATEGORIES:Archiv
LOCATION:Salzhof\, Salzgasse 15\, Freistadt\, Oberösterreich\, 4240\, Freistadt\, Österreich
GEO:48.512165;14.503003
X-APPLE-STRUCTURED-LOCATION;VALUE=URI;X-ADDRESS=Salzgasse 15\, Freistadt\, Oberösterreich\, 4240\, Freistadt\, Österreich;X-APPLE-RADIUS=100;X-TITLE=Salzhof:geo:48.512165;14.503003
END:VEVENT
END:VCALENDAR