BEGIN:VCALENDAR
VERSION:2.0
PRODID:-//wp-events-plugin.com//6.4.6.4//EN
BEGIN:VEVENT
UID:127@local-buehne.at
DTSTART;VALUE=DATE:20060305
DTEND;VALUE=DATE:20060306
DTSTAMP:20190924T173153Z
URL:https://www.local-buehne.at/events/cocopellis-mitmachkonzert/
SUMMARY:Cocopelli`s Mitmachkonzert
DESCRIPTION:Wo kommen all die Träume her? Hast du dich das schon mal gefragt?\nCocopelli lädt euch ein - ins Reich der Musik\, ins Land der Träume.\nStaunende Augen\, tanzende Kinderhände und ein Meer aus Kinderstimmen begleiten uns auf dieser Reise.\nUnd du? Wovon träumst du?\n\nDas Mitmach-Musikprogramm führt die Kinder auf eine Reise ins Land der Träume. Dabei werden sie von COCOPELLI begleitet\, einer Figur aus der indianischen Mythologie. \nDie Legende erzählt\, dass COCOPELLI als Geschichtenerzähler und Musiker von Dorf zu Dorf zog und alle mit seinen Geschichten und Liedern froh machte. Wohin er kam ging die Sonne auf\, und die Menschen wurden offen und mutig.\nInspiriert von dem indianischen Wanderer Cocopelli\, entstand die Cocopelli Company. Auch sie möchte ihrem jungen Publikum vor allem eins vermitteln: „Träume können wahr werden! Glaub an deinen Traum!“\nUnd das gelingt der jungen Gruppe auf ihre eigene\, ausdrucksstarke Weise mit neuen Kinderliedern aus verschiedenen Stilrichtungen\, die richtig ins Ohr gehen.\nMit Barbara Gahleitner (Gesang\, Flöte\, Akkordeon\, Hang)\, Rainer Falk (Gitarre)\, und Günter Sichart (Schauspiel) zieht die Gruppe durchs Land\, immer auf der Spur der Träume.\n\nEin Konzerterlebnis für Menschen von 3 bis 11 und Kinder bis 99\n\nDer Chor der Volksschule 1 unterstützt die Cocopelli-Company  bei einigen Liedern.
ATTACH;FMTTYPE=image/jpeg:https://www.local-buehne.at/wp-content/uploads/2019/09/unnamed-file-56.jpeg
CATEGORIES:Archiv
LOCATION:Salzhof\, Salzgasse 15\, Freistadt\, Oberösterreich\, 4240\, Freistadt\, Österreich
GEO:48.512165;14.503003
X-APPLE-STRUCTURED-LOCATION;VALUE=URI;X-ADDRESS=Salzgasse 15\, Freistadt\, Oberösterreich\, 4240\, Freistadt\, Österreich;X-APPLE-RADIUS=100;X-TITLE=Salzhof:geo:48.512165;14.503003
END:VEVENT
END:VCALENDAR