BEGIN:VCALENDAR
VERSION:2.0
PRODID:-//wp-events-plugin.com//6.4.6.4//EN
BEGIN:VEVENT
UID:1038@local-buehne.at
DTSTART;VALUE=DATE:20121117
DTEND;VALUE=DATE:20121118
DTSTAMP:20190924T181226Z
URL:https://www.local-buehne.at/events/clara-luzia/
SUMMARY:CLARA LUZIA
DESCRIPTION:FM4-Kinotour\n\nCLARA LUZIA\n\nsolo\n\nDie FM4-Kinotour macht Halt im Kino Freistadt. Mirjam Ungers Dokumentarfilm OH YEAH\, SHE PERFORMS wird um 20 Uhr im Kino Freistadt laufen\, danach\, um ca. 22 Uhr\, wird CLARA LUZIA im Local auftreten.\n\nInfos zum Film: www.ohyeahsheperforms.com\n\nClara Luzia: www.claraluzia.com\n\nFilm: Eintritt € 8 / ermäßigt € 6\,50 // www.kino-freistadt.at\nAuftritt: Eintritt frei! // www.local-buehne.at
ATTACH;FMTTYPE=image/jpeg:https://www.local-buehne.at/wp-content/uploads/2019/09/unnamed-file-434.jpeg
CATEGORIES:Archiv
END:VEVENT
END:VCALENDAR