BEGIN:VCALENDAR
VERSION:2.0
PRODID:-//wp-events-plugin.com//6.4.6.4//EN
BEGIN:VEVENT
UID:131@local-buehne.at
DTSTART;VALUE=DATE:20060401
DTEND;VALUE=DATE:20060402
DTSTAMP:20190924T173153Z
URL:https://www.local-buehne.at/events/c-j-chenier-the-red-hot-louisiana-band-usa/
SUMMARY:C.J. Chenier & The Red Hot Louisiana Band (USA)
DESCRIPTION:„Der gekrönte Prinz des Zydeco!" (Billboard)\nZydeco ist ursprünglich die volkstümliche Tanzmusik der Kreolen in Louisiana. Nach dem zweiten Weltkrieg flossen neue Stilelemente aus dem Rhythm and Blues ein\, der Zydeco wurde rockiger.\n\nSeine Musik – eine Mischung aus souligen\, tanzbaren Rhythmen und kraftvollen Songs – ist zwar tief in der Zydeco-Tradition verwurzelt\, C.J. Chenier versteht es aber\, andere Stile wie Funk\, Soul\, R&B\, Rock und Jazz einfließen zu lassen und so einen einzigartigen Sound zu erzeugen.\nNach dem Tod seines Vaters Clifton Chenier\, dem legendären Zydeco-Pionier\, übernahm C.J.1987 dessen Akkordeon und auch seine Band. \nIn C.J. Cheniers Musik findet man seit jeher traditionelle Elemente seines berühmten Vaters\, aber C.J. entwickelt und erneuert diese Musik immer weiter\, weil er seiner Kreativität keine Grenzen vorgeben wollte.\nEr weiss zwar die Musik seines Vaters zu schätzen\, hat jedoch auch noch andere Vorlieben: James Brown und Funkadelic\, John Coltrane und Miles Davis.\nEs ist mit das Beste\, was einem zur Zeit in Sachen Zydeco zu Ohren kommen kann und beweist eindrucksvoll\, dass die Verbindung vom Gehörgang zum Tanzbein eine äußerst kurze sein kann .\n\nVVK in allen OÖ Raiffeisen Banken!
ATTACH;FMTTYPE=image/jpeg:https://www.local-buehne.at/wp-content/uploads/2019/09/unnamed-file-60.jpeg
CATEGORIES:Konzert
LOCATION:Salzhof\, Salzgasse 15\, Freistadt\, Oberösterreich\, 4240\, Freistadt\, Österreich
GEO:48.512165;14.503003
X-APPLE-STRUCTURED-LOCATION;VALUE=URI;X-ADDRESS=Salzgasse 15\, Freistadt\, Oberösterreich\, 4240\, Freistadt\, Österreich;X-APPLE-RADIUS=100;X-TITLE=Salzhof:geo:48.512165;14.503003
END:VEVENT
END:VCALENDAR