BEGIN:VCALENDAR
VERSION:2.0
PRODID:-//wp-events-plugin.com//6.4.6.4//EN
BEGIN:VEVENT
UID:80@local-buehne.at
DTSTART;VALUE=DATE:20050422
DTEND;VALUE=DATE:20050423
DTSTAMP:20190924T173152Z
URL:https://www.local-buehne.at/events/bruno-der-maikaefer-sucht-liebe/
SUMMARY:Bruno\, der Maikäfer\, sucht Liebe
DESCRIPTION:es spielen Romana Anna Naderer & Romy Roiß\n\nDer eben geschlüpfte Maikäfer begegnet auf seinem Lebensweg und der Suche nach seinem Lebenssinn dem Schmetterling\, der viel schöner fliegt\, der Fliege Flitzi\, die wertvolle Überlebenstipps gibt und seinem feind\, dem Menschen. Findet er aber auch eine Maikäferfrau?
ATTACH;FMTTYPE=image/jpeg:https://www.local-buehne.at/wp-content/uploads/2019/09/unnamed-file-12.jpeg
CATEGORIES:Archiv
END:VEVENT
END:VCALENDAR