BEGIN:VCALENDAR
VERSION:2.0
PRODID:-//wp-events-plugin.com//6.4.6.4//EN
BEGIN:VEVENT
UID:100@local-buehne.at
DTSTART;VALUE=DATE:20050826
DTEND;VALUE=DATE:20050827
DTSTAMP:20190924T173153Z
URL:https://www.local-buehne.at/events/bratko-bibic-the-madleys/
SUMMARY:Bratko Bibic & The Madleys
DESCRIPTION:Bratko Bibic - „Balgbeißer“  - spielte mit so prominenten Musikern wie Paul Motian\, Elliott Sharp\, Fred Frith uva. Sein Akkordoenspiel ist so originell\, witzig und ideenreich wie seine Musik\, die irgendwo zwischen Jazz\, Folklore und Avantgarde immer wieder wunderbare Improvisationen und virtuoses Zusammenspiel mit seinen Musikern bietet.\n\nBesetzung:\nBratko Bibic accordion\nBogo Pecnikar clarinet\, baritone sax\nVasko Atanasovski alto\, soprano sax\, flute\nMarjan Stanic drums\, percussion
ATTACH;FMTTYPE=image/jpeg:https://www.local-buehne.at/wp-content/uploads/2019/09/unnamed-file-30.jpeg
CATEGORIES:Archiv
LOCATION:Salzhof\, Salzgasse 15\, Freistadt\, Oberösterreich\, 4240\, Freistadt\, Österreich
GEO:48.512165;14.503003
X-APPLE-STRUCTURED-LOCATION;VALUE=URI;X-ADDRESS=Salzgasse 15\, Freistadt\, Oberösterreich\, 4240\, Freistadt\, Österreich;X-APPLE-RADIUS=100;X-TITLE=Salzhof:geo:48.512165;14.503003
END:VEVENT
END:VCALENDAR