BEGIN:VCALENDAR
VERSION:2.0
PRODID:-//wp-events-plugin.com//6.4.6.4//EN
BEGIN:VEVENT
UID:1375@local-buehne.at
DTSTART:20240510T180000Z
DTEND:20240510T180000Z
DTSTAMP:20240527T184729Z
URL:https://www.local-buehne.at/events/besuch-im-bubenland/
SUMMARY:BESUCH IM BUBENLAND
DESCRIPTION:Premiere mit Regisseurin Katrin Schlösser im Kino Freistadt\n\n&nbsp\;\n\nBesuch im Bubenland\nAT 2024\, 92 min\, R: Katrin Schlösser\n\nKatrin Schlösser („Szenen meiner Ehe“) möchte in ihrem neuen Film BESUCH IM BUBENLAND im Südburgenland herausfinden\, wie österreichische Männer ticken – ein empathischer und humorvoller Film über eine weitgehend unbekannte Spezies\n\nhttps://youtu.be/ZRdzT2J4gNM\n\nIn ihrem zweiten Dokumentarfilm macht sich die Filmemacherin Katrin Schlösser auf ins Südburgenland\, um dort einen Film mit Männern zu drehen. Sie möchte herausfinden\, wie sie denken und handeln\, was sie antreibt und auch\, wie sie selbst auf Männer zugeht\, welche Erwartungen sie ihnen zuschreibt.\n\nIn Form einer filmischen Feldforschung sammelt sie Begegnungen und Gespräche\, erfährt von individuellen Lebenswegen\, vom Alltag und seinen Lasten\, von Träumen. Wortkarg und lakonisch teilen die Männer letztendlich freimütig ihre Gedanken und Gefühle – immer in Reaktion auf die Neugier\, Offenheit und Hartnäckigkeit der Fragestellerin\, die ihnen mit ihrer Handykamera gegenübersitzt und einen Dialog auf Augenhöhe sucht.\n\n&nbsp\;\n\n\n\nTickets: www.kino-freistadt.at\n\n\n\n\n\n&nbsp\;\n\n&nbsp\;
ATTACH;FMTTYPE=image/jpeg:https://www.local-buehne.at/wp-content/uploads/2024/04/240510-Bubenland-1200.jpg
CATEGORIES:Film
LOCATION:Kino Freistadt\, Salzgasse 25\, Freistadt\, Oberösterreich\, 4240\, Freistadt\, Österreich
GEO:48.512609;14.5035787
X-APPLE-STRUCTURED-LOCATION;VALUE=URI;X-ADDRESS=Salzgasse 25\, Freistadt\, Oberösterreich\, 4240\, Freistadt\, Österreich;X-APPLE-RADIUS=100;X-TITLE=Kino Freistadt:geo:48.512609;14.5035787
END:VEVENT
END:VCALENDAR