BEGIN:VCALENDAR
VERSION:2.0
PRODID:-//wp-events-plugin.com//6.4.6.4//EN
BEGIN:VEVENT
UID:475@local-buehne.at
DTSTART;VALUE=DATE:20120218
DTEND;VALUE=DATE:20120219
DTSTAMP:20190924T173232Z
URL:https://www.local-buehne.at/events/beda-mit-palme/
SUMMARY:BEDA MIT PALME
DESCRIPTION:Samstag 18 Februar\, 22 Uhr\, Local\n\nBEDA MIT PALME\n\nBeda mit Palme ist eine Ein-Pflanzen-Band aus dem Mühlviertel.\n\nDer junge Mann singt selbst-geschnitzte Lieder mit seiner Akustikgitarre und seiner Zimmerpflanze. Auf Mundart schreit\, singt und jodelt er seine Lieder und hat sichtlich Freude dabei.\n\nDie Lockere Art lässt das Publikum schmunzeln und mit seiner Stimme lässt er die ZuhörerInnen einen neuen Horizont der Mundartmusik entdecken.\n\n*EINTRITT FREI!*
ATTACH;FMTTYPE=image/jpeg:https://www.local-buehne.at/wp-content/uploads/2019/09/unnamed-file-385.jpeg
CATEGORIES:Archiv
END:VEVENT
END:VCALENDAR