BEGIN:VCALENDAR
VERSION:2.0
PRODID:-//wp-events-plugin.com//6.4.6.4//EN
BEGIN:VEVENT
UID:1596@local-buehne.at
DTSTART:20261017T173000Z
DTEND:20261017T173000Z
DTSTAMP:20260420T143704Z
URL:https://www.local-buehne.at/events/barbara-blaha/
SUMMARY:BARBARA BLAHA
DESCRIPTION:\n\nDas neue Programm von Barbara Blaha\nFunkenschwestern - Wie Feminismus alles besser macht!\nBarbara Blaha weiß\, wovon sie spricht. Aufgewachsen als Kind einer Arbeiterfamilie mit vielen Geschwistern aber wenig Geld\, kennt sie das Gefühl\, übersehen zu werden. Ihre bisherigen Bühnenprogramme waren ein überwältigender Erfolg: Tausende haben sie bereits gesehen\, jede Vorstellung war ausverkauft. In ihrem neuen Programm Funkenschwestern und dem gleichnamigen Buch verbindet sie persönliche Geschichten mit Zahlen\, Fakten und Studien und zeigt\, warum ökonomische Fragen immer auch feministische Fragen sind. Sie macht sichtbar\, warum Frauen seltener führen dürfen\, öfter unterbrochen und schlechter bezahlt werden. Sie zeigt auf\, dass in Branchen mit hohem Frauenanteil die Löhne sinken und selbst ein Vollzeitjob nicht vor der zweiten unbezahlten Schicht zuhause schützt.\n\nBarbara Blaha ist Österreichs profilierteste politische Influencerin. Sie leitet das Momentum Institut und prägt die gesellschaftliche Debatte zu Macht und Geschlecht. Mit ihrem feministischen Bühnenprogramm begeistert sie Tausende. Jetzt legt sie ihr erstes großes Buch vor\, das ein Nummer 1 Bestseller ist: Funkenschwestern - Wie Feminismus alles besser macht.\n\nEine Veranstaltung der Plattform Kultur und Menschlichkeit\nim Rahmen der Literaturtage Freistadt\nin Zusammenarbeit mit:\nLocal-Bühne Freistadt\nFraustadt Freistadt\nKBW Freistadt\n\n&nbsp\;\n\n\n\n\n\n\n\n\n\nVorverkauf: local-buehne.at/tickets\nVorverkauf Platzkarten EUR 33\,- / 29\,- / 25\,-\nAbendkasse: +4\n\n\n\n\n
ATTACH;FMTTYPE=image/jpeg:https://www.local-buehne.at/wp-content/uploads/2026/04/261017-Blaha-1200.jpg
CATEGORIES:Kabarett,Literatur
LOCATION:Salzhof\, Salzgasse 15\, Freistadt\, Oberösterreich\, 4240\, Freistadt\, Österreich
GEO:48.512165;14.503003
X-APPLE-STRUCTURED-LOCATION;VALUE=URI;X-ADDRESS=Salzgasse 15\, Freistadt\, Oberösterreich\, 4240\, Freistadt\, Österreich;X-APPLE-RADIUS=100;X-TITLE=Salzhof:geo:48.512165;14.503003
END:VEVENT
END:VCALENDAR