BEGIN:VCALENDAR
VERSION:2.0
PRODID:-//wp-events-plugin.com//6.4.6.4//EN
BEGIN:VEVENT
UID:1446@local-buehne.at
DTSTART:20251106T190000Z
DTEND:20251106T190000Z
DTSTAMP:20251022T142334Z
URL:https://www.local-buehne.at/events/andreas-vitasek-4/
SUMMARY:ANDREAS VITÁSEK
DESCRIPTION:SPÄTLESE\nNeues Solokabarett\nDie Zeitenwende aus der Sicht eines satirischen Einzelgängers.\n\nHerb\, aber mit etwas Restsüße blickt Andreas Vitasek in seinem neuen Programm „Spätlese“ auf die aktuellen Themen unserer Zeit.\n\nKlimaschutz\, Pandemie\, politische Korrektheit\, unverschämte Werbung\, künstliche Intelligenz und natürliche Blödheit werden durch die Brille eines gereiften\, aber keinesfalls seriösen Herren betrachtet.\n\nEr erlaubt sich nostalgische Ausflüge in Zeiten\, wo vermeintlich alles besser war\, streift seine eigene Vergangenheit als Kind Favoritens\, um sich als Boomer im noblen Diplomatenviertel wiederzufinden. Und natürlich taucht ein alter Bekannter wieder auf.\n\n&nbsp\;\nDie dickköpfige Selbstbehauptung eines Sarkastikers! Wie eh und je hoch empfindsam und rebellisch\, ätzend und poetisch. - Kurier\n&nbsp\;\n\n\n\nVorverkauf:\nlocal-buehne.at/tickets\n\n\n\n\n\n&nbsp\;
ATTACH;FMTTYPE=image/jpeg:https://www.local-buehne.at/wp-content/uploads/2024/12/251106-Vitasek-1200.jpg
CATEGORIES:Kabarett
LOCATION:Salzhof Freistadt\, Salzgasse 15\, Freistadt\, Oberösterreich\, 4240\, Österreich
X-APPLE-STRUCTURED-LOCATION;VALUE=URI;X-ADDRESS=Salzgasse 15\, Freistadt\, Oberösterreich\, 4240\, Österreich;X-APPLE-RADIUS=100;X-TITLE=Salzhof Freistadt:geo:0,0
END:VEVENT
END:VCALENDAR