BEGIN:VCALENDAR
VERSION:2.0
PRODID:-//wp-events-plugin.com//6.4.6.4//EN
BEGIN:VEVENT
UID:291@local-buehne.at
DTSTART;VALUE=DATE:20090213
DTEND;VALUE=DATE:20090214
DTSTAMP:20190924T173229Z
URL:https://www.local-buehne.at/events/aigner-felber-schiller/
SUMMARY:AIGNER\, FELBER\, SCHILLER
DESCRIPTION:Wer glaubt\, die größte Wirtschaftskrise seit 1929 würde ausreichen\, die geschäftigen NeoliberalisiererInnen zum Umdenken zu bringen\, wird täglich eines Besseren belehrt: Genau jene „ExpertInnen“\, die jahrelang den Rückzug des Staates aus der Wirtschaft gepredigt haben\, halten jetzt eifrig die Hand auf\, um mit irrsinnigen Summen der SteuerzahlerInnen ihre Banken und Betriebe wieder flottzukriegen\, um womöglich nachher wieder genauso weiterzumachen wie vorher. \nFür alle\, die ein wenig hinter die Kulissen diverser Börsenkräche und Finanzskandale blicken und dennoch dabei nicht aufs Lachen verzichten wollen\, gibt es jetzt eine einmalige Spezialtherapie: Ernst Aigner & Ingrid Schiller haben sich mit dem bekannten ATTAC-Austria-Mitbegründer\, erfolgreichen Buchautor\, Journalisten und seit kurzem auch Lektor an der WU Wien Christian Felber zusammengetan\, um eine einzigartige Kombination aus Vortrag und Kabarett auf die Bühne zu bringen\, eine äußerst wirksame Rosskur zur Beseitigung des neoliberalen Virus! Glasklare Analyse unserer verrückten Wirtschaftswelt trifft auf satirisches Blödeln\, ein Drittel Fakten wird vermischt mit zwei Dritteln „Wuchteln“\, und heraus kommt ein wahrlich erleuchtender Abend mit viel Spaß und hohem Erkenntnisgewinn.\n\nin Zusammenarbeit mit ATTAC\n\n\nhttp://www.ernstaigner.com\n\nhttp://www.christian-felber.at\n\nEintritt: 13\,- / 11\,- / 10\,-\nKartenvorverkauf in allen oö Raiffeisenbanken.\nKeine Reservierung mehr möglich!
ATTACH;FMTTYPE=image/jpeg:https://www.local-buehne.at/wp-content/uploads/2019/09/unnamed-file-226.jpeg
CATEGORIES:Kabarett
LOCATION:Salzhof\, Salzgasse 15\, Freistadt\, Oberösterreich\, 4240\, Freistadt\, Österreich
GEO:48.512165;14.503003
X-APPLE-STRUCTURED-LOCATION;VALUE=URI;X-ADDRESS=Salzgasse 15\, Freistadt\, Oberösterreich\, 4240\, Freistadt\, Österreich;X-APPLE-RADIUS=100;X-TITLE=Salzhof:geo:48.512165;14.503003
END:VEVENT
END:VCALENDAR