BEGIN:VCALENDAR
VERSION:2.0
PRODID:-//wp-events-plugin.com//6.4.6.4//EN
BEGIN:VEVENT
UID:371@local-buehne.at
DTSTART;VALUE=DATE:20101128
DTEND;VALUE=DATE:20101129
DTSTAMP:20190924T173231Z
URL:https://www.local-buehne.at/events/abgesagt-hands-up-excitement/
SUMMARY:ABGESAGT! Hands Up Excitement
DESCRIPTION:°^°^°^°^°^°^°^°^°^°^°\n\nHANDS UP - EXCITEMENT! Konzert ABGESAGT!\n\nWie wir leider sehr kurzfristig erfahren haben muss die Hands Up - Excitement! Tour aufgrund der Erkrankung eines Bandmitglieds abgesagt werden.\n\nBereits gekaufte Vorverkaufskarten werden im KINO Freistadt Foyer zurückgenommen.\n\n°^°^°^°^°^°^°^°^°^°^°\n\n\nHANDS UP EXCITEMENT\n\nwhen the hand points straight up - the excitement starts!\n\nTell your deepest dark goodbye singt Hans Narva im gleichnamigen Stück\, und\, wie in vielen anderen Liedern\, belässt er es bei diesem einen finsteren Aphorismus\, der alles sagt\, um dann eisern zu schweigen.\n\nStilistisch sind Hands Up Excitement eine Mischung aus allem\, was Hans Narva in seinem bewegten Leben schon so gemacht hat. Die getragene Kammermusik des Crack-up Collective scheint ebenso durch wie der experimentelle Elektro-Punk von Herbst in Peking.\n\nDer Ausdruck tiefer Trauer dient als Klammer um die Klangvielfalt - als Würgegriff der Verzweiflung sozusagen\, den glücklicher Weise immer wieder ein Ton des Trostes löst. Aber es ist ein seltsamer Trost\, den die Musik spendet\, einer der sagt: Es ist nicht schlimm\, dass du nie wieder glücklich wirst.\n\n2009 lief der Dokumentarfilm „Hans im Glück“ im Programm des Festivals DER NEUE HEIMATFILM - der Protagonist Hans Narva gastiert nun mit seiner Band Hands Up Excitement im Salzhof. Mit dabei\, an der Gitarre\, ist Schauspieler August Diehl\, der vor allem für seine Rollen in Filmen wie 23 - Nichts ist so wie es scheint\, Die fetten Jahre sind vorbei\, Die Fälscher oder Inglourious Basterds bekannt ist. Auch die Regisseurin von "Hans im Glück"\, Claudia Lehmann\, spielt in der Band.\n\n"HANS IM GLÜCK" läuft am Sonntag\, 28. Nov.\, im Kino Freistadt.\n\nEintritt: 10\,- / ermäßigt 8\,- / Local-Bühne Mitglieder 7\,-\nKartenreservierung unter 07942 777 33 begin_of_the_skype_highlighting              07942 777 33      end_of_the_skype_highlighting oder office@local-buehne.at\nKartenvorverkauf: Kino & Buchhandlung Wurzinger\, Freistadt
ATTACH;FMTTYPE=image/jpeg:https://www.local-buehne.at/wp-content/uploads/2019/09/unnamed-file-318.jpeg
CATEGORIES:Konzert
LOCATION:Salzhof\, Salzgasse 15\, Freistadt\, Oberösterreich\, 4240\, Freistadt\, Österreich
GEO:48.512165;14.503003
X-APPLE-STRUCTURED-LOCATION;VALUE=URI;X-ADDRESS=Salzgasse 15\, Freistadt\, Oberösterreich\, 4240\, Freistadt\, Österreich;X-APPLE-RADIUS=100;X-TITLE=Salzhof:geo:48.512165;14.503003
END:VEVENT
END:VCALENDAR