BEGIN:VCALENDAR
VERSION:2.0
PRODID:-//wp-events-plugin.com//6.4.6.4//EN
BEGIN:VEVENT
UID:289@local-buehne.at
DTSTART;VALUE=DATE:20090130
DTEND;VALUE=DATE:20090131
DTSTAMP:20190924T173229Z
URL:https://www.local-buehne.at/events/3-feet-smaller-2/
SUMMARY:3 FEET SMALLER
DESCRIPTION:Bei der Geschwindigkeit und Intensität\, mit der 3 Feet Smaller ihr Ding seit ihrer Gründung vor 8 Jahren durchziehen\, war es nur eine Frage der Zeit\, bis etwas Größeres passiert. 2009 werden die Zeichen mit aller neuen Gelassenheit auf Sturm gestellt und 3 Feet Smaller machen wieder das\, was sie immer schon am Besten konnten: Auf Over- und Underground pfeifen und im popkulturellen Niemandsland Österreich eine eigene Vision verwirklichen. \nIn den letzten Jahren konnten die Wiener-Bowling-Punx sich auf Bühnen jeder Größenordung in ganz Europa ein treues Publikum erspielen und mit ihrem vor kurzem erschienenen Album „December 32nd“ im Gepäck kommen sie nach Freistadt um den Salzhof zu rocken. \nJe nach Belieben lassen 3 Feet Smaller auch auf ihrem aktuellen Tonträger ihre Lieder je nach Belieben ordentlich krachen oder auch mal ruhiger dahinfließen. Ihr melodieverliebter\, energiegeladener Hochgeschwindigkeits- Sound hat dabei schon immer dafür gesorgt\, dass man bei ihren Konzerten gar nicht mehr mit dem Zählen der StagediverInnen nachkommt. \n3 Feet Smaller haben sich mit ihrem neuen Material auf ihre vielen Qualitäten und hochsympathischen Charaktermerkmale besonnen und diese mit einer neuen Sensibilität generalüberholt – und es wären nicht 3 Feet Smaller\, wenn die Resultate nicht rocken würden wie Himmel und Hölle zugleich!\n\n\n\n\nwww.myspace.com/3feetsmaller \n\nSupport:\nThe Electric Diorama (IT):www.theelectricdiorama.com\nOffsize (OÖ): www.myspace.com/offsize\nKartenvorverkauf in allen oö Raiffeisenbanken\, bei Ö-Ticket \nund im Kino Freistadt!
ATTACH;FMTTYPE=image/jpeg:https://www.local-buehne.at/wp-content/uploads/2019/09/unnamed-file-223.jpeg
CATEGORIES:Archiv
LOCATION:Salzhof\, Salzgasse 15\, Freistadt\, Oberösterreich\, 4240\, Freistadt\, Österreich
GEO:48.512165;14.503003
X-APPLE-STRUCTURED-LOCATION;VALUE=URI;X-ADDRESS=Salzgasse 15\, Freistadt\, Oberösterreich\, 4240\, Freistadt\, Österreich;X-APPLE-RADIUS=100;X-TITLE=Salzhof:geo:48.512165;14.503003
END:VEVENT
END:VCALENDAR