BEGIN:VCALENDAR
VERSION:2.0
PRODID:-//wp-events-plugin.com//6.4.6.4//EN
BEGIN:VEVENT
UID:1479@local-buehne.at
DTSTART:20251025T180000Z
DTEND:20251025T180000Z
DTSTAMP:20251022T142259Z
URL:https://www.local-buehne.at/events/18th-scottish-colours/
SUMMARY:18th SCOTTISH COLOURS
DESCRIPTION:Mairi McGillivray &amp\; Sòlás Collective\nSounding Islands“ – Gälische Stimmen\, junge Virtuosität\nDie 18. Ausgabe der SCOTTISH COLOURS-Tour steht ganz im Zeichen der schottischen Inseln: Unter dem Motto „Sounding Islands“ bringt die Tour zwei außergewöhnliche Acts auf die Bühne – jung\, hochmusikalisch und tief verwurzelt in der gälischen Tradition.\nMairi McGillivray ist eine der neuen\, großen Stimmen des schottisch-gälischen Liedguts. Die Sängerin von der Insel Islay wird gemeinsam mit dem renommierten Gitarristen Seán Gray das Publikum mit ausdrucksstarken Liedern in Scots Gàidhlig verzaubern. McGillivray\, deren musikalische Wurzeln in der reichen Tradition ihrer Heimat liegen\, hat 2020 ihr Studium am Royal Conservatoire of Scotland mit Auszeichnung abgeschlossen\, gewann 2021 den bedeutenden Danny Kyle Award und war 2023 Finalistin bei den BBC Radio Scotland Young Traditional Musician of the Year Awards. Ihre Debüt-EP „In My Mind“ erschien 2021 und wurde von der Kritik gefeiert.\nEbenfalls mit auf Tour: das Sòlás Collective\, bestehend aus dem Meister der Scottish Small Pipes Fionnlagh Mac A’ Phiocar und der Virtuosin an der Viola Sarah Hannify. Die beiden stammen von der Insel North Uist in den abgelegenen Äußeren Hebriden und widmen sich selten gehörtem Repertoire aus ihrer Heimat. Mit hypnotischen\, zeitgenössischen Klanglandschaften bringen sie das musikalische Erbe dieser wilden Atlantikinseln auf einzigartige Weise zum Klingen.\nBeide Ensembles zeigen eindrucksvoll\, wie lebendig\, tiefgründig und modern traditionelle Musik aus Schottland heute sein kann und versprechen ein leidenschaftliches Konzerterlebnis zwischen Tradition und Zukunft.\n&nbsp\;\n\n&nbsp\;\n\n\n\n\n\n\n\nVorverkauf: kupfticket.com/shops/lb\nVorverkauf EUR 21 / 25 / 29\n\nAbendkasse: +4\n\nLocal-Bühne-Mitglieder: 1 Euro retour auf VVK an Abendkasse\n\n\n\n
ATTACH;FMTTYPE=image/jpeg:https://www.local-buehne.at/wp-content/uploads/2025/04/251025-ScotCol-1200.jpg
CATEGORIES:Konzert
LOCATION:Salzhof Freistadt\, Salzgasse 15\, Freistadt\, Oberösterreich\, 4240\, Österreich
X-APPLE-STRUCTURED-LOCATION;VALUE=URI;X-ADDRESS=Salzgasse 15\, Freistadt\, Oberösterreich\, 4240\, Österreich;X-APPLE-RADIUS=100;X-TITLE=Salzhof Freistadt:geo:0,0
END:VEVENT
END:VCALENDAR