BEGIN:VCALENDAR
VERSION:2.0
PRODID:-//wp-events-plugin.com//6.4.6.4//EN
BEGIN:VEVENT
UID:1356@local-buehne.at
DTSTART:20250222T190000Z
DTEND:20250222T213000Z
DTSTAMP:20240527T185754Z
URL:https://www.local-buehne.at/events/13-nacht-des-fado/
SUMMARY:13. NACHT DES FADO
DESCRIPTION:&nbsp\;\n\n13. Nacht des Fado\nCarlos Leitão &amp\; Ensemble present\nNANI MEDEIROS\n\n&nbsp\;\n\nCarlos Leitão präsentiert 2025 die brasilianische Fadista Nani Medeiros. Die außergewöhnliche Sängerin aus dem südbrasilianischen Porto Alegro ist in ihrer Heimat in der modernen Bossa &amp\; Samba-Szene bestens integriert. In Lissabon hat sie sich als Fadista ein zweites Standbein geschaffen und wird in der dortigen brodelnden Szene als exotischer Paradiesvogel gefeiert. Somit erwartet uns ein aussergewöhnlicher Fado-Abend!.\n\nwww.nanimedeiros.com.br\n\nhttps://youtu.be/1QMygKGNaRs\n\nCarlos Leitão hatte in Portugal lange den Ruf eines höchst talentierten\, verlässlichen und besonnenen Gitarristen\, der gemeinsam mit seinem Bruder Henrique Leitao (portugiesische Gitarre) mit fast allen Fado-Größen der Szene arbeitete\, bis er 2013 selbst ein Album als Fadista aufnahm\, das zu den allerfeinsten Tondokumenten des Genres zählt. Nun ist er auch als Sänger ebenso gefragt.\n\nMit seinem Ensemble ist Carlos fixer Bestandteil der Fado-Nächte\, die seit vielen Jahren portugiesisches Flair in den Salzhof bringen.\n\nhttps://youtu.be/FkEoZtC4Ipo\n\n&nbsp\;\n\n&nbsp\;\n\n\n\n\n\n\n\nVorverkauf: local-buehne.at/tickets\nVorverkauf EUR 25\n\nAbendkasse: 29\,- / 27\,-\n\nAbendkasse Preis 1: Vollpreis Abendkassa\; Preis 2: ermäßigt Abendkassa (u. a. für Ö1-\, Arbeiterkammer-\, Kupf-Mitglieder\, Schüler*innen\, Student*innen\, Präsenz- &amp\; Zivildiener\; mit gültigem Ausweis)\; Local-Bühne-Mitglieder: 1 Euro retour auf VVK an Abendkasse\n\n\n\n
ATTACH;FMTTYPE=image/jpeg:https://www.local-buehne.at/wp-content/uploads/2024/02/250222-Fado-1200.jpg
CATEGORIES:Konzert
LOCATION:Salzhof\, Salzgasse 15\, Freistadt\, Oberösterreich\, 4240\, Freistadt\, Österreich
GEO:48.512165;14.503003
X-APPLE-STRUCTURED-LOCATION;VALUE=URI;X-ADDRESS=Salzgasse 15\, Freistadt\, Oberösterreich\, 4240\, Freistadt\, Österreich;X-APPLE-RADIUS=100;X-TITLE=Salzhof:geo:48.512165;14.503003
END:VEVENT
END:VCALENDAR